Workbook

Sheet SGV

Sheet Biểu kèm tờ trình
A1: BIỂU ĐIỀU CHỈNH, BỔ SUNG CHỈ TIÊU KẾ HOẠCH PHÁT TRIỂN KINH TẾ - XÃ HỘI NĂM 2026
B2: (Kèm theo Nghị quyết số Ngày 28/8/2026 của HĐND xã)
A3: STT | B3: Chỉ tiêu | C3: Đơn vị | D3: Chỉ tiêu giao tại Nghị quyết số 38/NQ-HĐND ngày 21/12/2025 | F3: Chỉ tiêu điều chỉnh, bổ sung | G3: Chỉ tiêu sau điều chỉnh | H3: Lý do đề nghị điều chỉnh, bổ sung
A4: I | B4: TÀI CHÍNH – KINH TẾ
A5: 1 | B5: Thu nội địa | C5: Triệu đồng | D5: 2170 | E5: 2170 | G5: 2170
A6: 2 | B6: Thu tiền sử dụng đất | C6: Triệu đồng | D6: Chưa giao | F6: 350 | G6: 350 | H6: UBND tỉnh giao bổ sung tại Quyết định số 358/QĐ-UBND ngày 13/02/2026
A7: 3 | B7: Thu NSĐP (không gồm tiền SDĐ, xổ số) | C7: Triệu đồng | D7: Chưa giao | F7: 1820 | G7: 1820
A8: 4 | B8: Tốc độ tăng tổng giá trị sản phẩm trên địa bàn | C8: % | D8: 10.5 | E8: 10.5 | F8: 7.1 | G8: 7.1
A9: 5 | B9: Thu nhập bình quân đầu người | C9: Triệu đồng/người/năm | D9: 42 | E9: 42 | G9: 42
A10: II | B10: NÔNG NGHIỆP – MÔI TRƯỜNG
A11: 6 | B11: Sản lượng chè búp tươi | C11: Tấn | D11: Chưa giao | F11: 15 | G11: 15 | H11: UBND tỉnh giao bổ sung tại Quyết định số 358/QĐ-UBND ngày 13/02/2026
A12: 7 | B12: Diện tích trồng rừng tập trung | C12: Ha | D12: 40 | E12: 40 | G12: 40
A13: 8 | B13: Độ che phủ rừng | C13: % | D13: 87 | E13: 87 | G13: 87
A14: 9 | B14: Tỷ lệ thu gom, xử lý chất thải rắn sinh hoạt | C14: % | D14: 30 | E14: 30 | G14: 30
A15: IV | B15: CHỈ TIÊU VỀ XÃ HỘI
A16: 10 | B16: Giảm tỷ lệ hộ nghèo đa chiều | C16: % | D16: 2 | E16: 2 | F16: 2.45 | G16: 2.45 | H16: UBND tỉnh điều chỉnh tại Quyết định số 358/QĐ-UBND ngày 13/02/2026
A17: 11 | B17: Tỷ lệ hộ sử dụng nước sạch đạt chuẩn | C17: % | D17: 65 | E17: 65 | F17: 60 | G17: 60 | H17: Chỉ tiêu HĐND xã giao 65%, chỉ tiêu UBND tỉnh giao tại Quyết định số 358/QĐ-UBND là 60%. đồng thời qua rà soát kết quả thực hiện năm 2026 chỉ đạt 60%
A18: 12 | B18: Tỷ lệ lao động qua đào tạo | C18: % | D18: 71.8 | E18: 71.8 | G18: 71.8
A19: 13 | B19: Trong đó có bằng cấp, chứng chỉ | C19: % | D19: ≥38 | E19: ≥38 | G19: ≥38
B20: Y TẾ – DÂN SỐ
A21: 14 | B21: Tỷ lệ người dân tham gia BHYT | C21: % | D21: ≥95 | E21: ≥95 | F21: 100 | G21: 100 | H21: UBND tỉnh bổ sung tại Quyết định số 2696/QĐ-UBND ngày 21/8/2026
A22: 15 | B22: Tỷ lệ chất thải y tế được xử lý | C22: % | D22: Chưa giao | F22: 100 | G22: 100 | H22: UBND tỉnh giao bổ sung tại Quyết định số 358/QĐ-UBND ngày 13/02/2026
A23: 16 | B23: Trẻ dưới 6 tuổi được tiêm phòng | C23: % | D23: 100 | E23: 100 | G23: 100
A24: 17 | B24: Tỷ lệ thất nghiệp khu vực nông thôn | C24: % | D24: Chưa giao | F24: < 2,3 | G24: < 2,3 | H24: UBND tỉnh giao bổ sung tại Quyết định số 358/QĐ-UBND ngày 13/02/2026
A25: 18 | B25: Số người mới sử dụng biện pháp tránh thai hiện đại trong năm | C25: Người | D25: Chưa giao | F25: 150 | G25: 150
A26: 19 | B26: Tỷ lệ cặp nam, nữ thanh niên được tư vấn, khám sức khỏe trước khi kết hôn | C26: % | D26: Chưa giao | F26: 50 | G26: 50
A27: 20 | B27: Tỷ lệ phụ nữ mang thai được tầm soát (sàng lọc trước sinh) đủ 4 bệnh (Down, Edward, Patau, Thalassemia) | C27: % | D27: Chưa giao | F27: 40 | G27: 40
A28: 21 | B28: Tỷ lệ trẻ sơ sinh được tầm soát (sàng lọc sơ sinh) đủ 5 bệnh (suy giáp bẩm sinh, thiếu men G6PD, tăng sản thượng thận bẩm sinh, khiếm thính bẩm sinh, tim bẩm sinh) | C28: % | D28: Chưa giao | F28: 53 | G28: 53
A29: 22 | B29: Người cao tuổi được khám sức khỏe định kỳ | C29: % | D29: Chưa giao | F29: 82 | G29: 82
A30: 23 | B30: Tỷ lệ người dân được hưởng chính sách khám sức khỏe | C30: % | D30: Chưa giao | F30: 100 | G30: 100 | H30: UBND tỉnh bổ sung tại Quyết định số 2696/QĐ-UBND ngày 21/8/2026
A31: VI | B31: VĂN HÓA – GIÁO DỤC
A32: 24 | B32: Gia đình đạt chuẩn văn hóa | C32: % | D32: >90 | E32: >90 | G32: >90
A33: 25 | B33: Thôn đạt chuẩn văn hóa | C33: % | D33: >90 | E33: >90 | G33: >90
A34: 26 | B34: Cơ quan, đơn vị đạt chuẩn văn hóa | C34: % | D34: >92 | E34: >92 | G34: >92
A35: 27 | B35: Huy động trẻ 5 tuổi ra lớp | C35: % | D35: 100 | E35: 100 | G35: 100
A36: 28 | B36: Huy động học sinh ra lớp 1 | C36: % | D36: 100 | E36: 100 | G36: 100
A37: 29 | B37: Huy động học sinh ra lớp 6 | C37: % | D37: 100 | E37: 100 | G37: 100
A38: 30 | B38: Phổ cập GDMN cho trẻ 3–5 tuổi | C38: Đạt | D38: Đạt | E38: Đạt | G38: Đạt
A39: 31 | B39: Trường học đạt chuẩn quốc gia | C39: % | D39: Duy trì | F39: 100 | G39: 100 | H39: UBND tỉnh điều chỉnh tại Quyết định số 358/QĐ-UBND ngày 13/02/2026
A40: VII | B40: KHOA HỌC – CHUYỂN ĐỔI SỐ
...

Sheet Biểu 01 - TỔNG HỢP
A1: BIỂU TỔNG HỢP CHỈ TIÊU KẾ HOẠCH PHÁT TRIỂN KINH TẾ - XÃ HỘI 6 THÁNG ĐẦU NĂM 2026
A2: STT | B2: Chỉ tiêu | C2: Đơn vị | D2: Kế hoạch năm 2026 | H2: Kết quả thực hiện 6 tháng đầu năm | I2: Ước thực hiện 2026 | J2: Tỷ lệ % thực hiện 6 tháng so với KH xã giao | K2: Ước tỷ lệ thực hiện năm 2026 so với KH xã giao
D3: NQ HĐND xã | E3: NQ Đảng uỷ xã | F3: KH tỉnh giao (358) | G3: KH xã
A4: I | B4: TÀI CHÍNH – KINH TẾ
A5: 1 | B5: Thu nội địa | C5: Triệu đồng | D5: 2170 | E5: 2170 | F5: 2170 | G5: 2170 | H5: 990.425 | I5: 2170 | J5: =H5/G5% -> 45.641705 | K5: =I5/G5% -> 100
A6: 2 | B6: Thu tiền sử dụng đất | C6: Triệu đồng | F6: 350 | G6: 350 | H6: 99.29 | I6: 200 | J6: =H6/G6% -> 28.368571 | K6: =I6/G6% -> 57.142857
A7: 3 | B7: Thu NSĐP (không gồm tiền SDĐ, xổ số) | C7: Triệu đồng | F7: 1820 | G7: 1820 | J7: =H7/G7% -> 0 | K7: =I7/G7% -> 0
A8: 4 | B8: Tốc độ tăng trưởng NSĐP | C8: % | G8: -96 | J8: =H8/G8% -> 0 | K8: =I8/G8% -> 0
A9: 5 | B9: Tốc độ tăng GTSX trên địa bàn | C9: % | D9: 10.5 | E9: 10.5 | G9: 10.5 | J9: =H9/G9% -> 0 | K9: =I9/G9% -> 0
A10: 6 | B10: Thu nhập bình quân đầu người | C10: Triệu đồng/người/năm | D10: 42 | E10: 42 | G10: 42 | H10: 39 | I10: 39.42 | J10: =H10/G10% -> 92.857143 | K10: =I10/G10% -> 93.857143
A11: II | B11: NÔNG NGHIỆP – MÔI TRƯỜNG
A12: 7 | B12: Sản lượng lương thực có hạt | C12: Tấn | G12: 2720 | H12: ='Biểu 2. Chỉ tiêu NN'!H7 -> 1780.83 | I12: ='Biểu 2. Chỉ tiêu NN'!I7 -> 3059.5205 | J12: =H12/G12% -> 65.471691 | K12: =I12/G12% -> 112.48237
A13: 8 | B13: Sản lượng chè búp tươi | C13: Tấn | F13: 15 | G13: 15 | H13: 8 | I13: 15 | J13: =H13/G13% -> 53.333333 | K13: =I13/G13% -> 100
A14: 9 | B14: Sản lượng thịt gia súc, gia cầm chủ yếu xuất chuồng | C14: Tấn | G14: 620 | H14: ='Biểu 2. Chỉ tiêu NN'!H101 -> 402.8 | I14: ='Biểu 2. Chỉ tiêu NN'!I101 -> 620 | J14: =H14/G14% -> 64.967742 | K14: =I14/G14% -> 100
A15: 10 | B15: Diện tích trồng rừng tập trung | C15: Ha | D15: 40 | E15: 40 | G15: 60 | H15: 54 | I15: 65 | J15: =H15/G15% -> 90 | K15: =I15/G15% -> 108.33333
A16: 11 | B16: Độ che phủ rừng | C16: % | D16: 87 | E16: 87 | G16: 87 | H16: 87 | I16: 87 | J16: =H16/G16% -> 100 | K16: =I16/G16% -> 100
A17: 12 | B17: Tỷ lệ thu gom, xử lý chất thải rắn sinh hoạt | C17: % | D17: 30 | E17: 30 | G17: 30 | H17: 25 | I17: 30 | J17: =H17/G17% -> 83.333333 | K17: =I17/G17% -> 100
A18: III | B18: CÔNG NGHIỆP - XÂY DỰNG
A19: 13 | B19: Tỷ lệ phương tiện giao thông công cộng sử dụng năng lượng xanh | C19: % | F19: 10 | G19: 10 | J19: =H19/G19% -> 0 | K19: =I19/G19% -> 0 | L19: Chưa đánh giá do hiện tại trệ địa bàn xã không có phương tiện công cộng (taxi, xe bus)
A20: IV | B20: CHỈ VỀ XÃ HỘI
A21: 14 | B21: Giảm tỷ lệ hộ nghèo đa chiều | C21: % | D21: 2 | E21: 2 | F21: 2.45 | G21: 2.45 | I21: 1.2 | J21: =H21/G21% -> 0 | K21: =I21/G21% -> 48.979592
A22: 15 | B22: Tỷ lệ hộ sử dụng nước sạch đạt chuẩn | C22: % | D22: 65 | E22: 65 | F22: 60 | G22: 60 | H22: 9.85 | I22: 60 | J22: =H22/G22% -> 16.416667 | K22: =I22/G22% -> 100 | L22: Chỉ tiêu HĐND xa giao 65%cao hơn so với KH tỉnh, tuy nhiên ước thực hiện chỉ đạt 60%
A23: 16 | B23: Tỷ lệ lao động qua đào tạo | C23: % | D23: 71.8 | E23: 71.8 | G23: 71.8 | H23: 54.91 | I23: 57.31 | J23: =H23/G23% -> 76.476323 | K23: =I23/G23% -> 79.818942
A24: 17 | B24: Trong đó có bằng cấp, chứng chỉ | C24: % | D24: ≥38 | E24: ≥38 | G24: ≥38 | H24: 34 | I24: 38 | K24: đạt
A25: V | B25: Y TẾ – DÂN SỐ
A26: 18 | B26: Tỷ lệ người dân tham gia BHYT | C26: % | D26: ≥95 | E26: ≥95 | F26: 100 | G26: 100 | H26: 100 | I26: 100 | J26: =H26/G26% -> 100 | K26: =I26/G26% -> 100
A27: 19 | B27: Tỷ lệ chất thải y tế được xử lý | C27: % | F27: 100 | G27: 100 | H27: 100 | I27: 100 | J27: =H27/G27% -> 100 | K27: =I27/G27% -> 100
A28: 20 | B28: Trẻ dưới 6 tuổi được tiêm phòng | C28: % | D28: 100 | E28: 100 | G28: 100 | H28: 100 | I28: 100 | J28: =H28/G28% -> 100 | K28: =I28/G28% -> 100
A29: 21 | B29: Tỷ lệ thất nghiệp khu vực nông thôn | C29: % | F29: <2,3 | G29: <2,3 | H29: <2,3 | I29: <2,3 | J29: đạt | K29: đạt
A30: 22 | B30: Số người mới sử dụng biện pháp tránh thai hiện đại trong năm | C30: Người | F30: 150 | G30: 150 | H30: 57 | I30: 150 | J30: =H30/G30% -> 38 | K30: =I30/G30% -> 100
A31: 23 | B31: Tỷ lệ cặp nam, nữ thanh niên được tư vấn, khám sức khỏe trước khi kết hôn | C31: % | F31: 52 | G31: 52 | H31: 33.3 | I31: 52 | J31: =H31/G31% -> 64.038462 | K31: =I31/G31% -> 100
A32: 24 | B32: Tỷ lệ phụ nữ mang thai được tầm soát (sàng lọc trước sinh) đủ 4 bệnh (Down, Edward, Patau, Thalassemia) | C32: % | F32: 40 | G32: 40 | H32: 14.2 | I32: 40 | J32: =H32/G32% -> 35.5 | K32: =I32/G32% -> 100
A33: 25 | B33: Tỷ lệ trẻ sơ sinh được tầm soát (sàng lọc sơ sinh) đủ 5 bệnh (suy giáp bẩm sinh, thiếu men G6PD, tăng sản thượng thận bẩm sinh, khiếm thính bẩm sinh, tim bẩm sinh) | C33: % | F33: 55 | G33: 55 | H33: 0 | I33: 55 | J33: =H33/G33% -> 0 | K33: =I33/G33% -> 100
A34: 26 | B34: Người cao tuổi được khám sức khỏe định kỳ | C34: % | F34: 82 | G34: 82 | H34: 35 | I34: 82 | J34: =H34/G34% -> 42.682927 | K34: =I34/G34% -> 100
A35: VI | B35: VĂN HÓA – GIÁO DỤC
A36: 27 | B36: Gia đình đạt chuẩn văn hóa | C36: % | D36: >90 | E36: >90 | F36: ≥90 | G36: ≥90 | I36: ≥90 | K36: Đạt
A37: 28 | B37: Thôn đạt chuẩn văn hóa | C37: % | D37: >90 | E37: >90 | F37: ≥90 | G37: ≥90 | I37: ≥90 | K37: Đạt
A38: 29 | B38: Cơ quan, đơn vị đạt chuẩn văn hóa | C38: % | D38: >92 | E38: >92 | F38: ≥92 | G38: ≥92 | I38: ≥92 | K38: Đạt
A39: 30 | B39: Huy động trẻ 5 tuổi ra lớp | C39: % | D39: 100 | E39: 100 | G39: 100 | I39: 100 | J39: =H39/G39% -> 0 | K39: =I39/G39% -> 100
A40: 31 | B40: Huy động học sinh ra lớp 1 | C40: % | D40: 100 | E40: 100 | G40: 100 | I40: 100 | J40: =H40/G40% -> 0 | K40: =I40/G40% -> 100
...

Sheet Biểu 02 - CHỈ TIÊU CHƯA ĐẠT
A1: BIỂU TỔNG HỢP DỰ ƯỚC CÁC CHỈ TIÊU KẾ HOẠCH PHÁT TRIỂN KINH TẾ - XÃ HỘI NĂM 2026
A2: STT | B2: Chỉ tiêu | C2: Đơn vị | D2: Kế hoạch năm 2026 | H2: Kết quả thực hiện 6 tháng đầu năm | I2: Ước thực hiện 2026 | J2: Tỷ lệ % thực hiện 6 tháng so với KH xã giao | K2: Ước tỷ lệ thực hiện năm 2026 so với KH xã giao | L2: Ghi chú | M2: Đơn vị chủ trì nội dung
D3: NQ HĐND xã | E3: NQ Đảng uỷ xã | F3: KH tỉnh giao (358) | G3: KH xã
A4: 1 | B4: Thu tiền sử dụng đất | C4: Triệu đồng | F4: 350 | G4: 350 | H4: 99.29 | I4: 250 | J4: =H4/G4% -> 28.368571 | K4: =I4/G4% -> 71.428571 | L4: Ước thực hiện năm 2026 không đạt | M4: Phòng Kinh tế
A5: 2 | B5: Thu nhập bình quân đầu người | C5: Triệu đồng/người/năm | D5: 42 | E5: 42 | G5: 42 | H5: 39 | I5: 39.42 | J5: =H5/G5% -> 92.857143 | K5: =I5/G5% -> 93.857143 | L5: Ước thực hiện năm 2026 không đạt
A6: 3 | B6: Giảm tỷ lệ hộ nghèo đa chiều | C6: % | D6: 2 | E6: 2 | F6: 2.45 | G6: 2.45 | I6: 1.2 | J6: =H6/G6% -> 0 | K6: =I6/G6% -> 48.979592 | L6: Ước thực hiện năm 2026 không đạt
A7: 4 | B7: Tỷ lệ hộ sử dụng nước sạch đạt chuẩn | C7: % | D7: 65 | E7: 65 | F7: 60 | G7: 60 | H7: 9.85 | I7: 60 | J7: =H7/G7% -> 16.416667 | K7: =I7/G7% -> 100 | L7: Chưa đạt so với NQ của HĐND xã giao
A8: 5 | B8: Tỷ lệ lao động qua đào tạo | C8: % | D8: 71.8 | E8: 71.8 | G8: 71.8 | H8: 54.91 | I8: 57.31 | J8: =H8/G8% -> 76.476323 | K8: =I8/G8% -> 79.818942 | L8: Ước thực hiện năm 2026 không đạt | M8: Phòng Văn hóa - Xã hội
A9: 6 | B9: Tỷ lệ trẻ sơ sinh được tầm soát (sàng lọc sơ sinh) đủ 5 bệnh (suy giáp bẩm sinh, thiếu men G6PD, tăng sản thượng thận bẩm sinh, khiếm thính bẩm sinh, tim bẩm sinh) | C9: % | F9: 55 | G9: 55 | H9: 0 | I9: 55 | J9: =H9/G9% -> 0 | K9: =I9/G9% -> 100 | L9: Tỷ lệ thực hiện 6 tháng đầu năm thấp | M9: Trạm Y tế
A10: 7 | B10: Phổ cập GDMN cho trẻ 3–5 tuổi | C10: Đạt | D10: Đạt | E10: Đạt | G10: Đạt | H10: Chưa đạt | I10: Chưa đạt | L10: Ước thực hiện năm 2026 không đạt | M10: Các trường Mầm non
A11: 8 | B11: Trường học đạt chuẩn quốc gia | C11: % | F11: 100 | G11: 100 | H11: =4/5*100 -> 80 | I11: 80 | J11: =H11/G11% -> 80 | K11: =I11/G11% -> 80 | L11: Ước thực hiện năm 2026 không đạt | M11: 05 trường học
A12: 9 | B12: Tỷ lệ người sử dụng có khả năng truy nhập băng rộng cố định với tốc độ trên 1Gb/s | C12: % | D12: 95 | E12: 95 | F12: 95 | G12: 95 | H12: 73.9 | I12: 80 | J12: =H12/G12% -> 77.789474 | K12: =I12/G12% -> 84.210526 | L12: Ước thực hiện năm 2026 không đạt | M12: Phòng Văn hóa - Xã hội
A13: 10 | B13: Tỷ lệ dân số được phủ sóng 5G | C13: % | D13: 85 | E13: 85 | F13: 60 | G13: 60 | H13: 60 | I13: 60 | J13: =H13/G13% -> 100 | K13: =I13/G13% -> 100 | L13: Chưa đạt so với NQ của HĐND xã giao

Sheet Biểu 2. Chỉ tiêu NN
A1: Biểu 02
A2: TỔNG HỢP CHỈ TIÊU KẾ HOẠCH SẢN XUẤT NÔNG, LÂM NGHIỆP 6 THÁNG ĐẦU NĂM 2026
A3: TT | B3: Chỉ tiêu | C3: ĐVT | F3: KẾ HOẠCH | H3: Kết quả thực hiện 6 tháng đầu năm | I3: Ước thực hiện 2026 | J3: Tỷ lệ % thực hiện 6 tháng so với KH xã giao | K3: Ước tỷ lệ thực hiện năm 2026 so với KH xã giao | L3: Đề xuất điều chỉnh KH xã | M3: Lý do đề nghị đc | N3: Ghi chú
D4: NQ HDND XÃ | E4: NQ ĐẢNG UỶ | F4: TỈNH GIAO | G4: KH XÃ
A5: I | B5: TRỒNG TRỌT
A6: 1 | B6: Cây lương thực có hạt
A7: - | B7: Tổng sản lượng lương thực có hạt | C7: Tấn | G7: =G8+G9 -> 3055.6895 | H7: =H8+H9 -> 1780.83 | I7: =I8+I9 -> 3059.5205 | J7: =H7/G7% -> 58.279154 | K7: =I7/G7% -> 100.12537 | L7: =L8+L9 -> 0 | M7: =M8+M9 -> 0 | N7: =N8+N9 -> 0
A8: - | B8: Trong đó: + Thóc | C8: Tấn | G8: =G14 -> 2095.216 | H8: =H14 -> 1097.28 | I8: =I14 -> 2099.047 | J8: =H8/G8% -> 52.370734 | K8: =I8/G8% -> 100.18285 | L8: =L14 -> 0 | M8: =M14 -> 0 | N8: =N14 -> 0
A9: - | B9: + Ngô | C9: Tấn | G9: =G26 -> 960.4735 | H9: =H26 -> 683.55 | I9: =I26 -> 960.4735 | J9: =H9/G9% -> 71.168023 | K9: =I9/G9% -> 100 | L9: =L26 -> 0 | M9: =M26 -> 0 | N9: =N26 -> 0
A10: - | B10: Lương thực bình quân đầu người | C10: Kg/người/ năm | D10: 530 | E10: 530 | G10: > 500
A11: 1.1 | B11: Cây lúa
A12: - | B12: Diện tích | C12: Ha | G12: =G16+G20 -> 392.98 | H12: =H16+H20 -> 188.54 | I12: =I16+I20 -> 392.98 | J12: =H12/G12% -> 47.976996 | K12: =I12/G12% -> 100 | L12: =L16+L20 -> 0 | M12: =M16+M20 -> 0 | N12: =N16+N20 -> 0
A13: - | B13: Năng suất | C13: Tạ/ha | G13: =G14/G12*10 -> 53.316098 | H13: =H14/H12*10 -> 58.198791 | I13: =I14/I12*10 -> 53.413583 | J13: =H13/G13% -> 109.15801 | K13: =I13/G13% -> 100.18285
A14: - | B14: Sản lượng | C14: Tấn | G14: =G18+G22 -> 2095.216 | H14: =H18+H22 -> 1097.28 | I14: =I18+I22 -> 2099.047 | J14: =H14/G14% -> 52.370734 | K14: =I14/G14% -> 100.18285 | L14: =L18+L22 -> 0 | M14: =M18+M22 -> 0 | N14: =N18+N22 -> 0
A15: a | B15: Vụ xuân
A16: + | B16: Diện tích | C16: Ha | F16: 188.54 | G16: ='Biểu 3. Lương thực có hạt'!C24 -> 188.54 | H16: 188.54 | I16: =H16 -> 188.54 | J16: =H16/G16% -> 100 | K16: =I16/G16% -> 100
A17: + | B17: Năng suất | C17: Tạ/ha | G17: ='Biểu 3. Lương thực có hạt'!D24 -> 57.995598 | H17: =H18/H16*10 -> 58.198791 | I17: =H17 -> 58.198791 | J17: =H17/G17% -> 100.35036 | K17: =I17/G17% -> 100.35036
A18: + | B18: Sản lượng | C18: Tấn | G18: ='Biểu 3. Lương thực có hạt'!E24 -> 1093.449 | H18: 1097.28 | I18: =H18 -> 1097.28 | J18: =H18/G18% -> 100.35036 | K18: =I18/G18% -> 100.35036
A19: b | B19: Vụ mùa
A20: + | B20: Diện tích | C20: Ha | F20: 204.44 | G20: ='Biểu 3. Lương thực có hạt'!F24 -> 204.44 | I20: 204.44 | J20: =H20/G20% -> 0 | K20: =I20/G20% -> 100
A21: + | B21: Năng suất | C21: Tạ/ha | G21: ='Biểu 3. Lương thực có hạt'!G24 -> 49.000538 | I21: 49 | J21: =H21/G21% -> 0 | K21: =I21/G21% -> 99.998902
A22: + | B22: Sản lượng | C22: Tấn | G22: ='Biểu 3. Lương thực có hạt'!H24 -> 1001.767 | I22: =G22 -> 1001.767 | J22: =H22/G22% -> 0 | K22: =I22/G22% -> 100
A23: 1.2 | B23: Cây ngô
A24: - | B24: Diện tích | C24: Ha | G24: =G28+G32 -> 201.73 | H24: =H28+H32 -> 139.5 | I24: =I28+I32 -> 201.73 | J24: =H24/G24% -> 69.151837 | K24: =I24/G24% -> 100
A25: - | B25: Năng suất | C25: Tạ/ha | G25: =G26/G24*10 -> 47.611833 | H25: =H26/H24*10 -> 49 | I25: =I26/I24*10 -> 47.611833 | J25: =H25/G25% -> 102.91559 | K25: =I25/G25% -> 100
A26: - | B26: Sản lượng | C26: Tấn | G26: =G30+G34 -> 960.4735 | H26: =H30+H34 -> 683.55 | I26: =I30+I34 -> 960.4735 | J26: =H26/G26% -> 71.168023 | K26: =I26/G26% -> 100
A27: a | B27: Vụ xuân
A28: + | B28: Diện tích | C28: Ha | G28: ='Biểu 3. Lương thực có hạt'!L24 -> 139.5 | H28: =G28 -> 139.5 | I28: =H28 -> 139.5 | J28: =H28/G28% -> 100 | K28: =I28/G28% -> 100
A29: + | B29: Năng suất | C29: Tạ/ha | G29: ='Biểu 3. Lương thực có hạt'!M24 -> 49 | H29: =G29 -> 49 | I29: =H29 -> 49 | J29: =H29/G29% -> 100 | K29: =I29/G29% -> 100
A30: + | B30: Sản lượng | C30: Tấn | G30: ='Biểu 3. Lương thực có hạt'!N24 -> 683.55 | H30: =G30 -> 683.55 | I30: =G30 -> 683.55 | J30: =H30/G30% -> 100 | K30: =I30/G30% -> 100
A31: b | B31: Vụ mùa
A32: + | B32: Diện tích | C32: Ha | G32: ='Biểu 3. Lương thực có hạt'!O24 -> 62.23 | I32: 62.23 | J32: =H32/G32% -> 0 | K32: =I32/G32% -> 100
A33: + | B33: Năng suất | C33: Tạ/ha | G33: ='Biểu 3. Lương thực có hạt'!P24 -> 44.5 | I33: 44.5 | J33: =H33/G33% -> 0 | K33: =I33/G33% -> 100
A34: + | B34: Sản lượng | C34: Tấn | G34: ='Biểu 3. Lương thực có hạt'!Q24 -> 276.9235 | I34: 276.9235 | J34: =H34/G34% -> 0 | K34: =I34/G34% -> 100
A35: 1.3 | B35: Diện tích chuyển đổi
A36: - | B36: Duy trì diện tích chuyển đổi cơ cấu cây trồng trên đất lúa năm 2018-2022 | C36: Ha | G36: 6 | J36: =H36/G36% -> 0 | K36: =I36/G36% -> 0
A37: 2 | B37: Cây chất bột | C37: Ha | G37: 0 | J37: =H37/G37% -> #DIV/0! | K37: =I37/G37% -> #DIV/0!
A38: 2.1 | B38: Cây khoai lang | J38: =H38/G38% -> #DIV/0! | K38: =I38/G38% -> #DIV/0!
A39: + | B39: Diện tích | C39: Ha | G39: 6.5 | J39: =H39/G39% -> 0 | K39: =I39/G39% -> 0
A40: + | B40: Năng suất | C40: Tạ/ha | G40: 54 | J40: =H40/G40% -> 0 | K40: =I40/G40% -> 0
...

Sheet Biểu 3. Lương thực có hạt
Q1: Biểu 03
A2: CHỈ TIÊU KẾ HOẠCH CÂY LƯƠNG THỰC CÓ HẠT NĂM 2026
A3: ='Biểu 02 - CHỈ TIÊU CHƯA ĐẠT'!#REF! -> #REF!
A4: TT | B4: Tên thôn | C4: CÂY LÚA | L4: CÂY NGÔ
C5: VỤ XUÂN | F5: VỤ MÙA | I5: CẢ NĂM | L5: VỤ XUÂN | O5: VỤ MÙA | R5: CẢ NĂM
C6: DT gieo trồng (ha) | D6: NS (tạ/ha) | E6: SL (tấn) | F6: DT gieo trồng (ha) | G6: NS (tạ/ha) | H6: SL (tấn) | I6: DT gieo trồng (ha) | J6: NS (tạ/ha) | K6: SL (tấn) | L6: DT gieo trồng (ha) | M6: NS (tạ/ha) | N6: SL (tấn) | O6: DT gieo trồng (ha) | P6: NS (tạ/ha) | Q6: SL (tấn) | R6: DT gieo trồng (ha) | S6: NS (tạ/ha) | T6: SL (tấn)
A7: 1 | B7: Tân Minh 1 | C7: 18.2 | D7: 58 | E7: =C7*D7*0.1 -> 105.56 | F7: 22.7 | G7: 49.2 | H7: =F7*G7*0.1 -> 111.684 | I7: =C7+F7 -> 40.9 | J7: =K7/I7*10 -> 53.115892 | K7: =E7+H7 -> 217.244 | L7: 8.9 | M7: 49 | N7: =L7*M7/10 -> 43.61 | O7: 2.2 | P7: 44.5 | Q7: =O7*P7/10 -> 9.79 | R7: =L7+O7 -> 11.1 | S7: =T7/R7*10 -> 48.108108 | T7: =N7+Q7 -> 53.4
A8: 2 | B8: Tân Minh 2 | C8: 21.9 | D8: 58 | E8: =C8*D8*0.1 -> 127.02 | F8: 22.9 | G8: 49.5 | H8: =F8*G8*0.1 -> 113.355 | I8: =C8+F8 -> 44.8 | J8: =K8/I8*10 -> 53.655134 | K8: =E8+H8 -> 240.375 | L8: 5.5 | M8: 49 | N8: =L8*M8/10 -> 26.95 | O8: 1.4 | P8: 44.5 | Q8: =O8*P8/10 -> 6.23 | R8: =L8+O8 -> 6.9 | S8: =T8/R8*10 -> 48.086957 | T8: =N8+Q8 -> 33.18
A9: 3 | B9: Tân Minh 3 | C9: 17.6 | D9: 58 | E9: =C9*D9*0.1 -> 102.08 | F9: 18.2 | G9: 49.3 | H9: =F9*G9*0.1 -> 89.726 | I9: =C9+F9 -> 35.8 | J9: =K9/I9*10 -> 53.577095 | K9: =E9+H9 -> 191.806 | L9: 6 | M9: 49 | N9: =L9*M9/10 -> 29.4 | O9: 4 | P9: 44.5 | Q9: =O9*P9/10 -> 17.8 | R9: =L9+O9 -> 10 | S9: =T9/R9*10 -> 47.2 | T9: =N9+Q9 -> 47.2
A10: 4 | B10: Nà Đô | C10: 25.7 | D10: 58 | E10: =C10*D10*0.1 -> 149.06 | F10: 26.2 | G10: 49.3 | H10: =F10*G10*0.1 -> 129.166 | I10: =C10+F10 -> 51.9 | J10: =K10/I10*10 -> 53.608092 | K10: =E10+H10 -> 278.226 | L10: 3.6 | M10: 49 | N10: =L10*M10/10 -> 17.64 | O10: 1.4 | P10: 44.5 | Q10: =O10*P10/10 -> 6.23 | R10: =L10+O10 -> 5 | S10: =T10/R10*10 -> 47.74 | T10: =N10+Q10 -> 23.87
A11: 5 | B11: Tân Thịnh | C11: 26 | D11: 58.8 | E11: =C11*D11*0.1 -> 152.88 | F11: 32.1 | G11: 50 | H11: =F11*G11*0.1 -> 160.5 | I11: =C11+F11 -> 58.1 | J11: =K11/I11*10 -> 53.938038 | K11: =E11+H11 -> 313.38 | L11: 3.6 | M11: 49 | N11: =L11*M11/10 -> 17.64 | O11: 6 | P11: 44.5 | Q11: =O11*P11/10 -> 26.7 | R11: =L11+O11 -> 9.6 | S11: =T11/R11*10 -> 46.1875 | T11: =N11+Q11 -> 44.34
A12: 6 | B12: Tân Tiến | C12: 15.94 | D12: 58.8 | E12: =C12*D12*0.1 -> 93.7272 | F12: 17.04 | G12: 50 | H12: =F12*G12*0.1 -> 85.2 | I12: =C12+F12 -> 32.98 | J12: =K12/I12*10 -> 54.253244 | K12: =E12+H12 -> 178.9272 | L12: 6.8 | M12: 49 | N12: =L12*M12/10 -> 33.32 | O12: 3.06 | P12: 44.5 | Q12: =O12*P12/10 -> 13.617 | R12: =L12+O12 -> 9.86 | S12: =T12/R12*10 -> 47.603448 | T12: =N12+Q12 -> 46.937
A13: 7 | B13: Nà Pját | C13: 5.16 | D13: 58.8 | E13: =C13*D13*0.1 -> 30.3408 | F13: 7.76 | G13: 50 | H13: =F13*G13*0.1 -> 38.8 | I13: =C13+F13 -> 12.92 | J13: =K13/I13*10 -> 53.514551 | K13: =E13+H13 -> 69.1408 | L13: 2.24 | M13: 49 | N13: =L13*M13/10 -> 10.976 | O13: 1.77 | P13: 44.5 | Q13: =O13*P13/10 -> 7.8765 | R13: =L13+O13 -> 4.01 | S13: =T13/R13*10 -> 47.013716 | T13: =N13+Q13 -> 18.8525
A14: 8 | B14: Bản Cậu | C14: 10.04 | D14: 57 | E14: =C14*D14*0.1 -> 57.228 | F14: 9.32 | G14: 47 | H14: =F14*G14*0.1 -> 43.804 | I14: =C14+F14 -> 19.36 | J14: =K14/I14*10 -> 52.18595 | K14: =E14+H14 -> 101.032 | L14: 5.6 | M14: 49 | N14: =L14*M14/10 -> 27.44 | O14: 5.6 | P14: 44.5 | Q14: =O14*P14/10 -> 24.92 | R14: =L14+O14 -> 11.2 | S14: =T14/R14*10 -> 46.75 | T14: =N14+Q14 -> 52.36
A15: 9 | B15: Khuổi Lịa | C15: 3.5 | D15: 57 | E15: =C15*D15*0.1 -> 19.95 | F15: 5.6 | G15: 47 | H15: =F15*G15*0.1 -> 26.32 | I15: =C15+F15 -> 9.1 | J15: =K15/I15*10 -> 50.846154 | K15: =E15+H15 -> 46.27 | L15: 1.8 | M15: 49 | N15: =L15*M15/10 -> 8.82 | O15: 1.8 | P15: 44.5 | Q15: =O15*P15/10 -> 8.01 | R15: =L15+O15 -> 3.6 | S15: =T15/R15*10 -> 46.75 | T15: =N15+Q15 -> 16.83
A16: 10 | B16: Vay Loàn | C16: 17.8 | D16: 57 | E16: =C16*D16*0.1 -> 101.46 | F16: 18.2 | G16: 47 | H16: =F16*G16*0.1 -> 85.54 | I16: =C16+F16 -> 36 | J16: =K16/I16*10 -> 51.944444 | K16: =E16+H16 -> 187 | L16: 13.15 | M16: 49 | N16: =L16*M16/10 -> 64.435 | O16: 1.5 | P16: 44.5 | Q16: =O16*P16/10 -> 6.675 | R16: =L16+O16 -> 14.65 | S16: =T16/R16*10 -> 48.539249 | T16: =N16+Q16 -> 71.11
A17: 11 | B17: Bản Nhượng | C17: 6.06 | D17: 57 | E17: =C17*D17*0.1 -> 34.542 | F17: 5.12 | G17: 47 | H17: =F17*G17*0.1 -> 24.064 | I17: =C17+F17 -> 11.18 | J17: =K17/I17*10 -> 52.420394 | K17: =E17+H17 -> 58.606 | L17: 4.78 | M17: 49 | N17: =L17*M17/10 -> 23.422 | O17: 6.15 | P17: 44.5 | Q17: =O17*P17/10 -> 27.3675 | R17: =L17+O17 -> 10.93 | S17: =T17/R17*10 -> 46.467978 | T17: =N17+Q17 -> 50.7895
A18: 12 | B18: Hợp Tiến | C18: 5.77 | D18: 58.6 | E18: =C18*D18*0.1 -> 33.8122 | F18: 5.5 | G18: 49.3 | H18: =F18*G18*0.1 -> 27.115 | I18: =C18+F18 -> 11.27 | J18: =K18/I18*10 -> 54.061402 | K18: =E18+H18 -> 60.9272 | L18: 15.57 | M18: 49 | N18: =L18*M18/10 -> 76.293 | O18: 7 | P18: 44.5 | Q18: =O18*P18/10 -> 31.15 | R18: =L18+O18 -> 22.57 | S18: =T18/R18*10 -> 47.604342 | T18: =N18+Q18 -> 107.443
A19: 13 | B19: Kéo Nàng | C19: 2.03 | D19: 58.6 | E19: =C19*D19*0.1 -> 11.8958 | F19: 2.2 | G19: 49.3 | H19: =F19*G19*0.1 -> 10.846 | I19: =C19+F19 -> 4.23 | J19: =K19/I19*10 -> 53.763121 | K19: =E19+H19 -> 22.7418 | L19: 6.27 | M19: 49 | N19: =L19*M19/10 -> 30.723 | O19: 4.5 | P19: 44.5 | Q19: =O19*P19/10 -> 20.025 | R19: =L19+O19 -> 10.77 | S19: =T19/R19*10 -> 47.119777 | T19: =N19+Q19 -> 50.748
A20: 14 | B20: Phja Khao | C20: 0 | D20: 58 | E20: =C20*D20*0.1 -> 0 | F20: 0 | G20: 49 | H20: =F20*G20*0.1 -> 0 | I20: =C20+F20 -> 0 | J20: 0 | K20: =E20+H20 -> 0 | L20: 36.82 | M20: 49 | N20: =L20*M20/10 -> 180.418 | O20: 1 | P20: 44.5 | Q20: =O20*P20/10 -> 4.45 | R20: =L20+O20 -> 37.82 | S20: =T20/R20*10 -> 48.881015 | T20: =N20+Q20 -> 184.868
A21: 15 | B21: Thâm Tàu | C21: 1.6 | D21: 57 | E21: =C21*D21*0.1 -> 9.12 | F21: 1 | G21: 47 | H21: =F21*G21*0.1 -> 4.7 | I21: =C21+F21 -> 2.6 | J21: =K21/I21*10 -> 53.153846 | K21: =E21+H21 -> 13.82 | L21: 6.32 | M21: 49 | N21: =L21*M21/10 -> 30.968 | O21: 2 | P21: 44.5 | Q21: =O21*P21/10 -> 8.9 | R21: =L21+O21 -> 8.32 | S21: =T21/R21*10 -> 47.918269 | T21: =N21+Q21 -> 39.868
A22: 16 | B22: Phiêng Lằm | C22: 6.54 | D22: 57 | E22: =C22*D22*0.1 -> 37.278 | F22: 5.7 | G22: 47 | H22: =F22*G22*0.1 -> 26.79 | I22: =C22+F22 -> 12.24 | J22: =K22/I22*10 -> 52.343137 | K22: =E22+H22 -> 64.068 | L22: 8.2 | M22: 49 | N22: =L22*M22/10 -> 40.18 | O22: 5.85 | P22: 44.5 | Q22: =O22*P22/10 -> 26.0325 | R22: =L22+O22 -> 14.05 | S22: =T22/R22*10 -> 47.126335 | T22: =N22+Q22 -> 66.2125
A23: 17 | B23: Bản Nhài | C23: 4.7 | D23: 58.5 | E23: =C23*D23*0.1 -> 27.495 | F23: 4.9 | G23: 49.3 | H23: =F23*G23*0.1 -> 24.157 | I23: =C23+F23 -> 9.6 | J23: =K23/I23*10 -> 53.804167 | K23: =E23+H23 -> 51.652 | L23: 4.35 | M23: 49 | N23: =L23*M23/10 -> 21.315 | O23: 7 | P23: 44.5 | Q23: =O23*P23/10 -> 31.15 | R23: =L23+O23 -> 11.35 | S23: =T23/R23*10 -> 46.22467 | T23: =N23+Q23 -> 52.465
A24: Tổng cộng | C24: =SUM(C7:C23) -> 188.54 | D24: =E24/C24*10 -> 57.995598 | E24: =SUM(E7:E23) -> 1093.449 | F24: =SUM(F7:F23) -> 204.44 | G24: =(H24/F24)*10 -> 49.000538 | H24: =SUM(H7:H23) -> 1001.767 | I24: =C24+F24 -> 392.98 | J24: =K24/I24*10 -> 53.316098 | K24: =E24+H24 -> 2095.216 | L24: =SUM(L7:L23) -> 139.5 | M24: =N24/L24*10 -> 49 | N24: =SUM(N7:N23) -> 683.55 | O24: =SUM(O7:O23) -> 62.23 | P24: =Q24/O24*10 -> 44.5 | Q24: =SUM(Q7:Q23) -> 276.9235 | R24: =L24+O24 -> 201.73 | S24: =T24/R24*10 -> 47.611833 | T24: =SUM(T7:T23) -> 960.4735

Sheet Biểu 4. Cây chất bột, rau, đậu
A1: CHỈ TIÊU KẾ HOẠCH CÂY CHẤT BỘT, CÂY THỰC PHẨM NĂM 2026
A2: ='Biểu 02 - CHỈ TIÊU CHƯA ĐẠT'!#REF! -> #REF!
A3: TT | B3: Tên thôn | C3: KHOAI LANG | F3: LẠC | I3: ĐẬU ĐỖ CÁC LOẠI | L3: RAU CÁC LOẠI
C5: DT (ha) | D5: NS (tạ/ha) | E5: SL (tấn) | F5: DT (ha) | G5: NS (tạ/ha) | H5: SL (tấn) | I5: DT (ha) | J5: NS (tạ/ha) | K5: SL (tấn) | L5: DT (ha) | M5: NS (tạ/ha) | N5: SL (tấn)
A6: 1 | B6: Tân Minh 1 | C6: 0.45 | D6: 54 | E6: =C6*D6/10 -> 2.43 | F6: 0.2 | G6: 19.6 | H6: =G6*F6/10 -> 0.392 | I6: 0.2 | J6: 13 | K6: =I6*J6/10 -> 0.26 | L6: 2.1 | M6: 124 | N6: =L6*M6/10 -> 26.04
A7: 2 | B7: Tân Minh 2 | C7: 0.5 | D7: 54 | E7: =C7*D7/10 -> 2.7 | F7: 0.4 | G7: 19.6 | H7: =G7*F7/10 -> 0.784 | I7: 0.2 | J7: 13 | K7: =I7*J7/10 -> 0.26 | L7: 6.7 | M7: 124 | N7: =L7*M7/10 -> 83.08
A8: 3 | B8: Tân Minh 3 | C8: 0.45 | D8: 54 | E8: =C8*D8/10 -> 2.43 | F8: 0.5 | G8: 19.6 | H8: =G8*F8/10 -> 0.98 | I8: 0.2 | J8: 13 | K8: =I8*J8/10 -> 0.26 | L8: 7.35 | M8: 124 | N8: =L8*M8/10 -> 91.14
A9: 4 | B9: Nà Đô | C9: 0.6 | D9: 54 | E9: =C9*D9/10 -> 3.24 | F9: 0.5 | G9: 19.6 | H9: =G9*F9/10 -> 0.98 | I9: 0.4 | J9: 13 | K9: =I9*J9/10 -> 0.52 | L9: 10 | M9: 124 | N9: =L9*M9/10 -> 124
A10: 5 | B10: Tân Thịnh | C10: 0.4 | D10: 54 | E10: =C10*D10/10 -> 2.16 | F10: 0.3 | G10: 19.6 | H10: =G10*F10/10 -> 0.588 | I10: 0.4 | J10: 13 | K10: =I10*J10/10 -> 0.52 | L10: 2.85 | M10: 124 | N10: =L10*M10/10 -> 35.34
A11: 6 | B11: Tân Tiến | C11: 0.5 | D11: 54 | E11: =C11*D11/10 -> 2.7 | F11: 0.5 | G11: 19.6 | H11: =G11*F11/10 -> 0.98 | I11: 0.4 | J11: 13 | K11: =I11*J11/10 -> 0.52 | L11: 3.35 | M11: 124 | N11: =L11*M11/10 -> 41.54
A12: 7 | B12: Nà Pját | C12: 0.25 | D12: 54 | E12: =C12*D12/10 -> 1.35 | F12: 0.3 | G12: 19.6 | H12: =G12*F12/10 -> 0.588 | I12: 0.1 | J12: 13 | K12: =I12*J12/10 -> 0.13 | L12: 1.55 | M12: 124 | N12: =L12*M12/10 -> 19.22
A13: 8 | B13: Bản Cậu | C13: 0.2 | D13: 54 | E13: =C13*D13/10 -> 1.08 | F13: 0.5 | G13: 19.6 | H13: =G13*F13/10 -> 0.98 | I13: 0.3 | J13: 13 | K13: =I13*J13/10 -> 0.39 | L13: 3 | M13: 124 | N13: =L13*M13/10 -> 37.2
A14: 9 | B14: Khuổi Lịa | C14: 0.2 | D14: 54 | E14: =C14*D14/10 -> 1.08 | F14: 0.2 | G14: 19.6 | H14: =G14*F14/10 -> 0.392 | I14: 0.2 | J14: 13 | K14: =I14*J14/10 -> 0.26 | L14: 2 | M14: 124 | N14: =L14*M14/10 -> 24.8
A15: 10 | B15: Vay Loàn | C15: 0.35 | D15: 54 | E15: =C15*D15/10 -> 1.89 | F15: 0.6 | G15: 19.6 | H15: =G15*F15/10 -> 1.176 | I15: 0.3 | J15: 13 | K15: =I15*J15/10 -> 0.39 | L15: 3 | M15: 124 | N15: =L15*M15/10 -> 37.2
A16: 11 | B16: Bản Nhượng | C16: 0.2 | D16: 54 | E16: =C16*D16/10 -> 1.08 | F16: 0.3 | G16: 19.6 | H16: =G16*F16/10 -> 0.588 | I16: 0.5 | J16: 13 | K16: =I16*J16/10 -> 0.65 | L16: 4.95 | M16: 124 | N16: =L16*M16/10 -> 61.38
A17: 12 | B17: Hợp Tiến | C17: 0.3 | D17: 54 | E17: =C17*D17/10 -> 1.62 | F17: 0.2 | G17: 19.6 | H17: =G17*F17/10 -> 0.392 | I17: 0.5 | J17: 13 | K17: =I17*J17/10 -> 0.65 | L17: 3 | M17: 124 | N17: =L17*M17/10 -> 37.2
... A22: 17 | B22: Bản Nhài | C22: 0.1 | D22: 54 | E22: =C22*D22/10 -> 0.54 | F22: 0.1 | G22: 19.6 | H22: =G22*F22/10 -> 0.196 | I22: 0.2 | J22: 13 | K22: =I22*J22/10 -> 0.26 | L22: 1.5 | M22: 124 | N22: =L22*M22/10 -> 18.6
A23: Tổng cộng | C23: =SUM(C6:C22) -> 6.5 | D23: =E23/C23*10 -> 54 | E23: =SUM(E6:E22) -> 35.1 | F23: =SUM(F6:F22) -> 9 | G23: =H23/F23*10 -> 19.6 | H23: =SUM(H6:H22) -> 17.64 | I23: =SUM(I6:I22) -> 5 | J23: =K23/I23*10 -> 13 | K23: =SUM(K6:K22) -> 6.5 | L23: =SUM(L6:L22) -> 66 | M23: =N23/L23*10 -> 124 | N23: =SUM(N6:N22) -> 818.4

Sheet Biểu 8. PTr Chăn nuôi
A1: CHỈ TIÊU KẾ HOẠCH TIÊM VẮC XIN PHÒNG BỆNH VÀ TỔNG ĐÀN VẬT NUÔI NĂM 2026
I2: ĐVT: Con = Liều
A3: TT | B3: Tên thôn | C3: Chỉ tiêu chăn nuôi
C4: Trâu | F4: Bò | I4: Ngựa | L4: Dê | O4: Lợn | R4: Gia cầm
C5: Tổng đàn cuối năm (con) | D5: Xuất chuồng (con) | E5: Sản lượng (tấn) | F5: Tổng đàn cuối năm (con) | G5: Xuất chuồng (con) | H5: Sản lượng (tấn) | I5: Tổng đàn cuối năm (con) | J5: Xuất chuồng (con) | K5: Sản lượng (tấn) | L5: Tổng đàn cuối năm (con) | M5: Xuất chuồng (con) | N5: Sản lượng (tấn) | O5: Tổng đàn cuối năm (con) | P5: Xuất chuồng (con) | Q5: Sản lượng (tấn) | R5: Tổng đàn cuối năm (con) | S5: Xuất chuồng (con) | T5: Sản lượng (tấn)
A6: 1 | B6: Tân Minh 1 | C6: 7 | D6: =C6*12.5% -> 0.875 | L6: 28 | M6: =L6*42.6% -> 11.928 | N6: =M6*21.9/1000 -> 0.2612232 | O6: 285 | P6: =O6*127% -> 361.95 | Q6: =P6*70/1000 -> 25.3365 | R6: 2893 | S6: =R6*121% -> 3500.53 | T6: =S6*2/1000 -> 7.00106
A7: 2 | B7: Tân Minh 2 | C7: 1 | L7: 72 | M7: =L7*42.6% -> 30.672 | N7: =M7*21.9/1000 -> 0.6717168 | O7: 283 | P7: =O7*127% -> 359.41 | Q7: =P7*70/1000 -> 25.1587 | R7: 5610 | S7: =R7*121% -> 6788.1 | T7: =S7*2/1000 -> 13.5762
A8: 3 | B8: Tân Minh 3 | C8: 21 | D8: =C8*12.5% -> 2.625 | E8: =D8*250/1000 -> 0.65625 | F8: 11 | G8: =F8*37.2% -> 4.092 | H8: =G8*220/1000 -> 0.90024 | I8: 18 | J8: =I8*28.3% -> 5.094 | K8: =J8*200/1000 -> 1.0188 | L8: 36 | M8: =L8*42.6% -> 15.336 | N8: =M8*21.9/1000 -> 0.3358584 | O8: 131 | P8: =O8*127% -> 166.37 | Q8: =P8*70/1000 -> 11.6459 | R8: 2915 | S8: =R8*121% -> 3527.15 | T8: =S8*2/1000 -> 7.0543
A9: 4 | B9: Nà Đô | C9: 92 | D9: =C9*12.5% -> 11.5 | E9: =D9*250/1000 -> 2.875 | F9: 26 | G9: =F9*37.2% -> 9.672 | H9: =G9*220/1000 -> 2.12784 | L9: 46 | M9: =L9*42.6% -> 19.596 | N9: =M9*21.9/1000 -> 0.4291524 | O9: 113 | P9: =O9*127% -> 143.51 | Q9: =P9*70/1000 -> 10.0457 | R9: 4307 | S9: =R9*121% -> 5211.47 | T9: =S9*2/1000 -> 10.42294
A10: 5 | B10: Tân Thịnh | C10: 21 | D10: =C10*12.5% -> 2.625 | E10: =D10*250/1000 -> 0.65625 | F10: 15 | G10: =F10*37.2% -> 5.58 | H10: =G10*220/1000 -> 1.2276 | L10: 119 | M10: =L10*42.6% -> 50.694 | N10: =M10*21.9/1000 -> 1.1101986 | O10: 199 | P10: =O10*127% -> 252.73 | Q10: =P10*70/1000 -> 17.6911 | R10: 5258 | S10: =R10*121% -> 6362.18 | T10: =S10*2/1000 -> 12.72436
A11: 6 | B11: Tân Tiến | C11: 6 | D11: =C11*12.5% -> 0.75 | L11: 53 | M11: =L11*42.6% -> 22.578 | N11: =M11*21.9/1000 -> 0.4944582 | O11: 176 | P11: =O11*127% -> 223.52 | Q11: =P11*70/1000 -> 15.6464 | R11: 5610 | S11: =R11*121% -> 6788.1 | T11: =S11*2/1000 -> 13.5762
A12: 7 | B12: Nà Pját | C12: 8 | D12: =C12*12.5% -> 1 | L12: 66 | M12: =L12*42.6% -> 28.116 | N12: =M12*21.9/1000 -> 0.6157404 | O12: 29 | P12: =O12*127% -> 36.83 | Q12: =P12*70/1000 -> 2.5781 | R12: 3212 | S12: =R12*121% -> 3886.52 | T12: =S12*2/1000 -> 7.77304
A13: 8 | B13: Bản Cậu | C13: 7 | D13: =C13*12.5% -> 0.875 | F13: 6 | G13: =F13*37.2% -> 2.232 | L13: 94 | M13: =L13*42.6% -> 40.044 | N13: =M13*21.9/1000 -> 0.8769636 | O13: 299 | P13: =O13*127% -> 379.73 | Q13: =P13*70/1000 -> 26.5811 | R13: 3740 | S13: =R13*121% -> 4525.4 | T13: =S13*2/1000 -> 9.0508
A14: 9 | B14: Khuổi Lịa | C14: 14 | D14: =C14*12.5% -> 1.75 | O14: 8 | P14: =O14*127% -> 10.16 | Q14: =P14*70/1000 -> 0.7112 | R14: 826 | S14: =R14*121% -> 999.46 | T14: =S14*2/1000 -> 1.99892
A15: 10 | B15: Vay Loàn | C15: 34 | D15: =C15*12.5% -> 4.25 | E15: =D15*250/1000 -> 1.0625 | F15: 6 | G15: =F15*37.2% -> 2.232 | I15: 3 | J15: =I15*28.3% -> 0.849 | K15: =J15*200/1000 -> 0.1698 | L15: 99 | M15: =L15*42.6% -> 42.174 | N15: =M15*21.9/1000 -> 0.9236106 | O15: 216 | P15: =O15*127% -> 274.32 | Q15: =P15*70/1000 -> 19.2024 | R15: 3938 | S15: =R15*121% -> 4764.98 | T15: =S15*2/1000 -> 9.52996
A16: 11 | B16: Bản Nhượng | O16: 30 | P16: =O16*127% -> 38.1 | Q16: =P16*70/1000 -> 2.667 | R16: 1662 | S16: =R16*121% -> 2011.02 | T16: =S16*2/1000 -> 4.02204
A17: 12 | B17: Hợp Tiến | C17: 12 | D17: =C17*12.5% -> 1.5 | F17: 12 | G17: =F17*37.2% -> 4.464 | H17: =G17*220/1000 -> 0.98208 | I17: 8 | J17: =I17*28.3% -> 2.264 | K17: =J17*200/1000 -> 0.4528 | L17: 70 | M17: =L17*42.6% -> 29.82 | N17: =M17*21.9/1000 -> 0.653058 | O17: 392 | P17: =O17*127% -> 497.84 | Q17: =P17*70/1000 -> 34.8488 | R17: 2125 | S17: =R17*121% -> 2571.25 | T17: =S17*2/1000 -> 5.1425
A18: 13 | B18: Kéo Nàng | C18: 45 | D18: =C18*12.5% -> 5.625 | E18: =D18*250/1000 -> 1.40625 | F18: 15 | G18: =F18*37.2% -> 5.58 | H18: =G18*220/1000 -> 1.2276 | I18: 12 | J18: =I18*28.3% -> 3.396 | K18: =J18*200/1000 -> 0.6792 | L18: 7 | M18: =L18*42.6% -> 2.982 | N18: =M18*21.9/1000 -> 0.0653058 | O18: 211 | P18: =O18*127% -> 267.97 | Q18: =P18*70/1000 -> 18.7579 | R18: 3795 | S18: =R18*121% -> 4591.95 | T18: =S18*2/1000 -> 9.1839
A19: 14 | B19: Phja Khao | C19: 90 | D19: =C19*12.5% -> 11.25 | E19: =D19*250/1000 -> 2.8125 | F19: 124 | G19: =F19*37.2% -> 46.128 | H19: =G19*220/1000 -> 10.14816 | O19: 107 | P19: =O19*127% -> 135.89 | Q19: =P19*70/1000 -> 9.5123 | R19: 1375 | S19: =R19*121% -> 1663.75 | T19: =S19*2/1000 -> 3.3275
A20: 15 | B20: Thâm Tàu | C20: 1 | I20: 3 | J20: =I20*28.3% -> 0.849 | K20: =J20*200/1000 -> 0.1698 | O20: 156 | P20: =O20*127% -> 198.12 | Q20: =P20*70/1000 -> 13.8684 | R20: 1711 | S20: =R20*121% -> 2070.31 | T20: =S20*2/1000 -> 4.14062
A21: 16 | B21: Phiêng Lằm | C21: 15 | D21: =C21*12.5% -> 1.875 | I21: 29 | J21: =I21*28.3% -> 8.207 | K21: =J21*200/1000 -> 1.6414 | L21: 80 | M21: =L21*42.6% -> 34.08 | N21: =M21*21.9/1000 -> 0.746352 | O21: 333 | P21: =O21*127% -> 422.91 | Q21: =P21*70/1000 -> 29.6037 | R21: 4895 | S21: =R21*121% -> 5922.95 | T21: =S21*2/1000 -> 11.8459
A22: 17 | B22: Bản Nhài | C22: 30 | D22: =C22*12.5% -> 3.75 | E22: =D22*250/1000 -> 0.9375 | I22: 1 | J22: =I22*28.3% -> 0.283 | K22: =J22*200/1000 -> 0.0566 | L22: 20 | M22: =L22*42.6% -> 8.52 | N22: =M22*21.9/1000 -> 0.186588 | O22: 105 | P22: =O22*127% -> 133.35 | Q22: =P22*70/1000 -> 9.3345 | R22: 1815 | S22: =R22*121% -> 2196.15 | T22: =S22*2/1000 -> 4.3923
A23: Tổng cộng: | C23: =SUM(C6:C22) -> 404 | D23: =C23*12.5% -> 50.5 | E23: =D23*250/1000 -> 12.625 | F23: =SUM(F6:F22) -> 215 | G23: =F23*37.2% -> 79.98 | H23: =G23*220/1000 -> 17.5956 | I23: =SUM(I6:I22) -> 74 | J23: =I23*28.3% -> 20.942 | K23: =J23*200/1000 -> 4.1884 | L23: =SUM(L6:L22) -> 790 | M23: =L23*42.6% -> 336.54 | N23: =M23*21.9/1000 -> 7.370226 | O23: =SUM(O6:O22) -> 3073 | P23: =O23*127% -> 3902.71 | Q23: =P23*70/1000 -> 273.1897 | R23: =SUM(R6:R22) -> 55687 | S23: =R23*121% -> 67381.27 | T23: =S23*2/1000 -> 134.76254

Sheet Biểu 9. Thủy sản
A1: TỔNG HỢP DIỆN TÍCH NUÔI TRỒNG THỦY SẢN
C2: ĐVT: Ha
A3: STT | B3: THÔN | C3: Diện tích | D3: Năng suất (tạ/ha) | E3: Sản lượng (tấn)
A4: Tổng Cộng | C4: =C9+C10+C11+C12+C14+C13+C5+C6+C7+C8+C17+C15+C16+C18+C21+C20+C19 -> 28.27 | D4: =E4/C4*10 -> 22.3 | E4: =SUM(E5:E21) -> 63.0421
A5: 1 | B5: Tân Minh 1 | C5: 1.3 | D5: 22.3 | E5: =C5*D5*0.1 -> 2.899
A6: 2 | B6: Tân Minh 2 | C6: 3.54 | D6: 22.3 | E6: =C6*D6*0.1 -> 7.8942
A7: 3 | B7: Tân Minh 3 | C7: 2.77 | D7: 22.3 | E7: =C7*D7*0.1 -> 6.1771
A8: 4 | B8: Nà Đô | C8: 0.79 | D8: 22.3 | E8: =C8*D8*0.1 -> 1.7617
A9: 5 | B9: Tân Thịnh | C9: 1.3 | D9: 22.3 | E9: =C9*D9*0.1 -> 2.899
A10: 6 | B10: Tân Tiến | C10: 3.6 | D10: 22.3 | E10: =C10*D10*0.1 -> 8.028
A11: 7 | B11: Nà Pját | C11: 0.38 | D11: 22.3 | E11: =C11*D11*0.1 -> 0.8474
A12: 8 | B12: Bản Cậu | C12: 0.82 | D12: 22.3 | E12: =C12*D12*0.1 -> 1.8286
A13: 9 | B13: Khuổi Lịa | C13: 0.62 | D13: 22.3 | E13: =C13*D13*0.1 -> 1.3826
A14: 10 | B14: Vay Loàn | C14: 4.59 | D14: 22.3 | E14: =C14*D14*0.1 -> 10.2357
A15: 11 | B15: Bản Nhượng | C15: 1.42 | D15: 22.3 | E15: =C15*D15*0.1 -> 3.1666
A16: 12 | B16: Hợp Tiến | C16: 1.3 | D16: 22.3 | E16: =C16*D16*0.1 -> 2.899
... A21: 17 | B21: Bản Nhài | C21: 0.4 | D21: 22.3 | E21: =C21*D21*0.1 -> 0.892

Sheet tiêm phòng
H2: Biểu 10
A3: CHỈ TIÊU KẾ HOẠCH PHÁT TRIỂN CHĂN NUÔI TRANG TRẠI, TIÊM VẮC XIN PHÒNG BỆNH GIA SÚC NĂM 2025
A4: ='Biểu 02 - CHỈ TIÊU CHƯA ĐẠT'!#REF! -> #REF!
A5: TT | B5: Tên xã | C5: Tiêm Vắc xin phòng bệnh cho đàn trâu, bò, chó
C6: Vắc xin LMLM (trâu, bò) | F6: Vắc xin THT (trâu, bò) | I6: Tiêm phòng dại đàn chó
C7: Kỳ I | D7: Kỳ II | E7: Cả năm | F7: Kỳ I | G7: Kỳ II | H7: Cả năm
A8: 1 | B8: Tân Minh 1 | C8: 5 | D8: =C8 -> 5 | E8: =C8+D8 -> 10 | F8: 5 | G8: =F8 -> 5 | H8: =F8+G8 -> 10 | I8: 92
A9: 2 | B9: Tân Minh 2 | C9: 1 | D9: =C9 -> 1 | E9: =C9+D9 -> 2 | F9: 1 | G9: =F9 -> 1 | H9: =F9+G9 -> 2 | I9: 66
A10: 3 | B10: Tân Minh 3 | C10: 23 | D10: =C10 -> 23 | E10: =C10+D10 -> 46 | F10: 23 | G10: =F10 -> 23 | H10: =F10+G10 -> 46 | I10: 90
A11: 4 | B11: Nà Đô | C11: 86 | D11: =C11 -> 86 | E11: =C11+D11 -> 172 | F11: 86 | G11: =F11 -> 86 | H11: =F11+G11 -> 172 | I11: 113
A12: 5 | B12: Tân Thịnh | C12: 26 | D12: =C12 -> 26 | E12: =C12+D12 -> 52 | F12: 26 | G12: =F12 -> 26 | H12: =F12+G12 -> 52 | I12: 63
A13: 6 | B13: Tân Tiến | C13: 4 | D13: =C13 -> 4 | E13: =C13+D13 -> 8 | F13: 4 | G13: =F13 -> 4 | H13: =F13+G13 -> 8 | I13: 49
A14: 7 | B14: Nà Pját | C14: 6 | D14: =C14 -> 6 | E14: =C14+D14 -> 12 | F14: 6 | G14: =F14 -> 6 | H14: =F14+G14 -> 12 | I14: 23
A15: 8 | B15: Bản Cậu | C15: 9 | D15: =C15 -> 9 | E15: =C15+D15 -> 18 | F15: 9 | G15: =F15 -> 9 | H15: =F15+G15 -> 18 | I15: 75
A16: 9 | B16: Khuổi Lịa | C16: 10 | D16: =C16 -> 10 | E16: =C16+D16 -> 20 | F16: 10 | G16: =F16 -> 10 | H16: =F16+G16 -> 20 | I16: 7
A17: 10 | B17: Vay Loàn | C17: 29 | D17: =C17 -> 29 | E17: =C17+D17 -> 58 | F17: 29 | G17: =F17 -> 29 | H17: =F17+G17 -> 58 | I17: 103
A18: 11 | B18: Bản Nhượng | D18: =C18 -> 0 | E18: =C18+D18 -> 0 | G18: =F18 -> 0 | H18: =F18+G18 -> 0 | I18: 54
A19: 12 | B19: Hợp Tiến | C19: 18 | D19: =C19 -> 18 | E19: =C19+D19 -> 36 | F19: 18 | G19: =F19 -> 18 | H19: =F19+G19 -> 36 | I19: 85
A20: 13 | B20: Kéo Nàng | C20: 44 | D20: =C20 -> 44 | E20: =C20+D20 -> 88 | F20: 44 | G20: =F20 -> 44 | H20: =F20+G20 -> 88 | I20: 43
A21: 14 | B21: Phja Khao | C21: 141 | D21: =C21 -> 141 | E21: =C21+D21 -> 282 | F21: 141 | G21: =F21 -> 141 | H21: =F21+G21 -> 282 | I21: 40
A22: 15 | B22: Thâm Tàu | C22: 1 | D22: =C22 -> 1 | E22: =C22+D22 -> 2 | F22: 1 | G22: =F22 -> 1 | H22: =F22+G22 -> 2 | I22: 38
A23: 16 | B23: Phiêng Lằm | C23: 11 | D23: =C23 -> 11 | E23: =C23+D23 -> 22 | F23: 11 | G23: =F23 -> 11 | H23: =F23+G23 -> 22 | I23: 46
A24: 17 | B24: Bản Nhài | C24: 22 | D24: =C24 -> 22 | E24: =C24+D24 -> 44 | F24: 22 | G24: =F24 -> 22 | H24: =F24+G24 -> 44 | I24: 23
A25: Tổng cộng: | C25: =SUM(C8:C24) -> 436 | D25: =SUM(D8:D24) -> 436 | E25: =SUM(E8:E24) -> 872 | F25: =SUM(F8:F24) -> 436 | G25: =SUM(G8:G24) -> 436 | H25: =SUM(H8:H24) -> 872 | I25: =SUM(I8:I24) -> 1010

Sheet giáo dục
A1: CHỈ TIÊU GIÁO DỤC VÀ ĐÀO TẠO
A2: ='[1]Biểu 6. Tiêm phòng'!A4:K4 -> (Kèm theo Quyết định số: /QĐ-UBND ngày / /2026 của Uỷ ban nhân dân xã Yên Thịnh )
A3: Stt | B3: Tên trường | C3: Đạt tiêu chuẩn phổ cập giáo dục mầm non cho trẻ em 3-5 tuổi( Đạt) | D3: Huy động trẻ em 5 tuổi ra lớp( %) | E3: Tuyển sinh học sinh vào lớp 1 ( %) | F3: Tuyển sinh học sinh vào lớp 6 ( %) | G3: Phổ cập giáo dục tiểu học ( mức độ) | H3: Phổ cập giáo dục trung học cơ sở ( mức độ) | I3: Đạt chuẩn xóa mù chữ ( Mức độ) | J3: Duy trì và nâng cao chất lượng các trường học đạt chuẩn quốc gia trên địa bàn xã. (Duy trì và nâng cao)
A4: 1 | B4: 2 | C4: 3 | D4: 4 | E4: 5 | F4: 6 | G4: 7 | H4: 9 | I4: 10 | J4: 11
A5: 1 | B5: Trường Mầm Non Bản Thi | C5: Đạt | D5: 100 | J5: Đạt
A6: 2 | B6: Trường Mầm Non Yên Thịnh | C6: Đạt | D6: 100 | J6: Đạt
A7: 3 | B7: Trưởng Tiểu học Bản Thi | E7: 100 | G7: 3 | I7: 2 | J7: Đạt
A8: 4 | B8: Trưởng Tiểu học Yên Thượng | E8: 100 | G8: 3 | I8: 2 | J8: Đạt
A9: 5 | B9: Trường Tiểu học và Trung học cở sở Yên Thịnh | E9: 100 | F9: 100 | G9: 3 | H9: 3 | I9: 2 | J9: Đạt
